View In:
ArcGIS JavaScript
ArcGIS Online Map Viewer
ArcGIS Earth
Service Description: bathymetric_survey_3m_depth_surfaces_raster
Name: bathymetric_survey_3m_depth_surfaces_raster
Description:
Single Fused Map Cache: false
Extent:
XMin: 1011371.9180490286
YMin: 1755289.558857924
XMax: 1209470.9180490286
YMax: 1998463.558857924
Spatial Reference: 102671
(3435)
Initial Extent:
XMin: 1011371.9180490286
YMin: 1755289.558857924
XMax: 1209470.9180490286
YMax: 1998463.558857924
Spatial Reference: 102671
(3435)
Full Extent:
XMin: 1011371.9180490286
YMin: 1755289.558857924
XMax: 1209470.9180490286
YMax: 1998463.558857924
Spatial Reference: 102671
(3435)
Pixel Size X: 3.0
Pixel Size Y: 3.0
Band Count: 1
Pixel Type: U8
RasterFunction Infos: {"rasterFunctionInfos": [{
"name": "None",
"description": "",
"help": ""
}]}
Mensuration Capabilities: Basic
Inspection Capabilities:
Has Histograms: true
Has Colormap: false
Has Multi Dimensions : false
Rendering Rule:
Min Scale: 0
Max Scale: 0
Copyright Text:
Service Data Type: esriImageServiceDataTypeGeneric
Min Values: 0
Max Values: 57
Mean Values: 7.00350875240927
Standard Deviation Values: 9.737853748571885
Object ID Field:
Fields:
None
Default Mosaic Method: Center
Allowed Mosaic Methods:
SortField:
SortValue: null
Mosaic Operator: First
Default Compression Quality: 75
Default Resampling Method: Bilinear
Max Record Count: null
Max Image Height: 4100
Max Image Width: 15000
Max Download Image Count: null
Max Mosaic Image Count: null
Allow Raster Function: true
Allow Copy: true
Allow Analysis: true
Allow Compute TiePoints: false
Supports Statistics: false
Supports Advanced Queries: false
Use StandardizedQueries: true
Raster Type Infos:
Name: Raster Dataset
Description: Supports all ArcGIS Raster Datasets
Help:
Has Raster Attribute Table: false
Edit Fields Info: null
Ownership Based AccessControl For Rasters: null
Child Resources:
Info
Histograms
Statistics
Key Properties
Legend
Raster Function Infos
Supported Operations:
Export Image
Identify
Measure
Compute Histograms
Compute Statistics Histograms
Get Samples
Compute Class Statistics
Query Boundary
Compute Pixel Location
Compute Angles
Validate
Project