<?xml version="1.0" encoding="UTF-8" standalone="no"?>
<metadata xml:lang="en">
  <Esri>
    <CreaDate>20180426</CreaDate>
    <CreaTime>12563400</CreaTime>
    <ArcGISFormat>1.0</ArcGISFormat>
    <ArcGISstyle>ISO 19139 Metadata Implementation Specification</ArcGISstyle>
    <SyncOnce>FALSE</SyncOnce>
    <DataProperties>
      <lineage>
        <Process Date="20180426" Name="Create Mosaic Dataset" Time="125634" ToolSource="c:\program files (x86)\arcgis\desktop10.4\ArcToolbox\Toolboxes\Data Management Tools.tbx\CreateMosaicDataset">CreateMosaicDataset O:\OrthoMosaic.gdb Cook2017 "PROJCS['NAD_1983_NSRS2007_StatePlane_Illinois_East_FIPS_1201_Ft_US',GEOGCS['GCS_NAD_1983_NSRS2007',DATUM['D_NAD_1983_NSRS2007',SPHEROID['GRS_1980',6378137.0,298.257222101]],PRIMEM['Greenwich',0.0],UNIT['Degree',0.0174532925199433]],PROJECTION['Transverse_Mercator'],PARAMETER['False_Easting',984250.0],PARAMETER['False_Northing',0.0],PARAMETER['Central_Meridian',-88.33333333333333],PARAMETER['Scale_Factor',0.999975],PARAMETER['Latitude_Of_Origin',36.66666666666666],UNIT['Foot_US',0.3048006096012192]],VERTCS['NAVD_1988',VDATUM['North_American_Vertical_Datum_1988'],PARAMETER['Vertical_Shift',0.0],PARAMETER['Direction',1.0],UNIT['Foot_US',0.3048006096012192]];-17463800 -46132600 137244822.078466;-100000 3048.00609601219;-100000 10000;3.28083333333333E-03;3.28083333333333E-03;0.001;IsHighPrecision" # # NONE #</Process>
        <Process Date="20180426" Name="Add Rasters To Mosaic Dataset" Time="130620" ToolSource="c:\program files (x86)\arcgis\desktop10.4\ArcToolbox\Toolboxes\Data Management Tools.tbx\AddRastersToMosaicDataset">AddRastersToMosaicDataset O:\OrthoMosaic.gdb\Cook2017 "Raster Dataset" O:\Orthos2017\Cook2017_RGBNIR UPDATE_CELL_SIZES UPDATE_BOUNDARY NO_OVERVIEWS # 0 1500 # # SUBFOLDERS ALLOW_DUPLICATES NO_PYRAMIDS NO_STATISTICS NO_THUMBNAILS # NO_FORCE_SPATIAL_REFERENCE NO_STATISTICS #</Process>
        <Process Date="20180426" Name="Build Overviews" Time="134000" ToolSource="c:\program files (x86)\arcgis\desktop10.4\ArcToolbox\Toolboxes\Data Management Tools.tbx\BuildOverviews">BuildOverviews O:\OrthoMosaic.gdb\Cook2017 # DEFINE_MISSING_TILES GENERATE_OVERVIEWS GENERATE_MISSING_IMAGES REGENERATE_STALE_IMAGES</Process>
        <Process Date="20180501" Time="151350" ToolSource="c:\program files (x86)\arcgis\desktop10.4\ArcToolbox\Toolboxes\Data Management Tools.tbx\AnalyzeMosaicDataset">AnalyzeMosaicDataset O:\OrthoMosaic.gdb\Cook2017 # FOOTPRINT;FUNCTION;RASTER;PATHS</Process>
      </lineage>
      <itemProps>
        <itemName Sync="TRUE">Cook2017</itemName>
        <itemLocation>
          <linkage Sync="TRUE">file://\\gisemcv1.ccounty.com\OrthoImagery\OrthoMosaic.gdb</linkage>
          <protocol Sync="TRUE">Local Area Network</protocol>
        </itemLocation>
        <nativeExtBox>
          <westBL Sync="TRUE">995000.000000</westBL>
          <eastBL Sync="TRUE">1212500.000000</eastBL>
          <southBL Sync="TRUE">1740000.000000</southBL>
          <northBL Sync="TRUE">2007500.000000</northBL>
          <exTypeCode Sync="TRUE">1</exTypeCode>
        </nativeExtBox>
      </itemProps>
      <coordRef>
        <type Sync="TRUE">Projected</type>
        <geogcsn Sync="TRUE">GCS_NAD_1983_NSRS2007</geogcsn>
        <csUnits Sync="TRUE">Linear Unit: Foot_US (0.304801)</csUnits>
        <projcsn Sync="TRUE">NAD_1983_NSRS2007_StatePlane_Illinois_East_FIPS_1201_Ft_US</projcsn>
        <peXml Sync="TRUE">&lt;ProjectedCoordinateSystem xsi:type='typens:ProjectedCoordinateSystem' xmlns:xsi='http://www.w3.org/2001/XMLSchema-instance' xmlns:xs='http://www.w3.org/2001/XMLSchema' xmlns:typens='http://www.esri.com/schemas/ArcGIS/10.4'&gt;&lt;WKT&gt;PROJCS[&amp;quot;NAD_1983_NSRS2007_StatePlane_Illinois_East_FIPS_1201_Ft_US&amp;quot;,GEOGCS[&amp;quot;GCS_NAD_1983_NSRS2007&amp;quot;,DATUM[&amp;quot;D_NAD_1983_NSRS2007&amp;quot;,SPHEROID[&amp;quot;GRS_1980&amp;quot;,6378137.0,298.257222101]],PRIMEM[&amp;quot;Greenwich&amp;quot;,0.0],UNIT[&amp;quot;Degree&amp;quot;,0.0174532925199433]],PROJECTION[&amp;quot;Transverse_Mercator&amp;quot;],PARAMETER[&amp;quot;False_Easting&amp;quot;,984250.0],PARAMETER[&amp;quot;False_Northing&amp;quot;,0.0],PARAMETER[&amp;quot;Central_Meridian&amp;quot;,-88.33333333333333],PARAMETER[&amp;quot;Scale_Factor&amp;quot;,0.999975],PARAMETER[&amp;quot;Latitude_Of_Origin&amp;quot;,36.66666666666666],UNIT[&amp;quot;Foot_US&amp;quot;,0.3048006096012192],AUTHORITY[&amp;quot;EPSG&amp;quot;,3529]],VERTCS[&amp;quot;NAVD_1988&amp;quot;,VDATUM[&amp;quot;North_American_Vertical_Datum_1988&amp;quot;],PARAMETER[&amp;quot;Vertical_Shift&amp;quot;,0.0],PARAMETER[&amp;quot;Direction&amp;quot;,1.0],UNIT[&amp;quot;Foot_US&amp;quot;,0.3048006096012192]]&lt;/WKT&gt;&lt;XOrigin&gt;-17463800&lt;/XOrigin&gt;&lt;YOrigin&gt;-46132600&lt;/YOrigin&gt;&lt;XYScale&gt;137244822.07846552&lt;/XYScale&gt;&lt;ZOrigin&gt;-100000&lt;/ZOrigin&gt;&lt;ZScale&gt;3048.0060960121923&lt;/ZScale&gt;&lt;MOrigin&gt;-100000&lt;/MOrigin&gt;&lt;MScale&gt;10000&lt;/MScale&gt;&lt;XYTolerance&gt;0.0032808333333333331&lt;/XYTolerance&gt;&lt;ZTolerance&gt;0.0032808333333333331&lt;/ZTolerance&gt;&lt;MTolerance&gt;0.001&lt;/MTolerance&gt;&lt;HighPrecision&gt;true&lt;/HighPrecision&gt;&lt;WKID&gt;3529&lt;/WKID&gt;&lt;LatestWKID&gt;3529&lt;/LatestWKID&gt;&lt;/ProjectedCoordinateSystem&gt;</peXml>
      </coordRef>
      <RasterProperties>
        <General>
          <PixelDepth Sync="TRUE">8</PixelDepth>
          <HasColormap Sync="TRUE">FALSE</HasColormap>
          <CompressionType Sync="TRUE">None</CompressionType>
          <NumBands Sync="TRUE">4</NumBands>
          <Format Sync="TRUE">AMD</Format>
          <HasPyramids Sync="TRUE">TRUE</HasPyramids>
          <SourceType Sync="TRUE">continuous</SourceType>
          <PixelType Sync="TRUE">unsigned integer</PixelType>
          <NoDataValue Sync="TRUE"/>
        </General>
        <Properties>
          <MaxImageHeight Sync="TRUE">4100</MaxImageHeight>
          <MaxImageWidth Sync="TRUE">15000</MaxImageWidth>
          <MaxRecordCount Sync="TRUE">1000</MaxRecordCount>
          <MaxDownloadImageCount Sync="TRUE">20</MaxDownloadImageCount>
          <MaxDownloadSizeLimit Sync="TRUE">2048</MaxDownloadSizeLimit>
          <MaxMosaicImageCount Sync="TRUE">30</MaxMosaicImageCount>
          <DefaultCompressionQuality Sync="TRUE">75</DefaultCompressionQuality>
          <DefaultCompressionTolerance Sync="TRUE">0.01</DefaultCompressionTolerance>
          <BlendWidth Sync="TRUE">10</BlendWidth>
          <ViewpointSpacingX Sync="TRUE">600</ViewpointSpacingX>
          <ViewpointSpacingY Sync="TRUE">300</ViewpointSpacingY>
          <AllowedItemMetadata Sync="TRUE">Basic</AllowedItemMetadata>
          <DefaultResamplingMethod Sync="TRUE">1</DefaultResamplingMethod>
          <AllowedMosaicMethods Sync="TRUE">NorthWest,Center,LockRaster,ByAttribute,Nadir,Viewpoint,Seamline,None</AllowedMosaicMethods>
          <AllowedCompressions Sync="TRUE">None,JPEG,LZ77,LERC</AllowedCompressions>
          <AllowedMensurationCapabilities Sync="TRUE">None</AllowedMensurationCapabilities>
          <AvailableMensurationCapabilities Sync="TRUE">None,Basic,Base-Top Height,Top-Top Shadow Height,Base-Top Shadow Height,3D</AvailableMensurationCapabilities>
          <ClipToBoundary Sync="TRUE">-1</ClipToBoundary>
          <FootprintMayContainNoData Sync="TRUE">-1</FootprintMayContainNoData>
          <CellSizeTolerance Sync="TRUE">0.8</CellSizeTolerance>
          <MinimumPixelContribution Sync="TRUE">1</MinimumPixelContribution>
          <AvailableMosaicMethods Sync="TRUE">NorthWest,Center,LockRaster,ByAttribute,Nadir,Viewpoint,Seamline,None</AvailableMosaicMethods>
          <AvailableCompressionMethods Sync="TRUE">None,JPEG,LZ77,LERC</AvailableCompressionMethods>
          <AvailableItemMetadataLevels Sync="TRUE">None,Basic,Full</AvailableItemMetadataLevels>
          <ConfigKeyword Sync="TRUE"/>
          <BandDefinitionKeyword Sync="TRUE">NONE</BandDefinitionKeyword>
          <AllowedFields Sync="TRUE">Name,MinPS,MaxPS,LowPS,HighPS,Tag,GroupName,ProductName,CenterX,CenterY,ZOrder,Shape_Length,Shape_Area</AllowedFields>
          <MaxCellSize Sync="TRUE">36450</MaxCellSize>
          <LowCellSize Sync="TRUE">0.5</LowCellSize>
          <HighCellSize Sync="TRUE">729</HighCellSize>
          <ApplyColorCorrection Sync="TRUE">0</ApplyColorCorrection>
          <TimeValueFormat Sync="TRUE"/>
          <EndTimeFieldName Sync="TRUE"/>
          <StartTimeFieldName Sync="TRUE"/>
          <TimeIntervalUnits Sync="TRUE"/>
          <TimeInterval Sync="TRUE"/>
          <MosaicOperator Sync="TRUE">1</MosaicOperator>
          <BlendWidthUnits Sync="TRUE">1</BlendWidthUnits>
          <UseTime Sync="TRUE">0</UseTime>
          <SortAscending Sync="TRUE">-1</SortAscending>
          <ClipToFootprint Sync="TRUE">0</ClipToFootprint>
          <SortField Sync="TRUE">Name</SortField>
          <SortValue Sync="TRUE">0</SortValue>
        </Properties>
        <Functions Sync="TRUE">
          <Function Description="Performs on-the-fly mosaic on a raster catalog." Name="Mosaic Function"/>
        </Functions>
      </RasterProperties>
    </DataProperties>
    <SyncDate>20190501</SyncDate>
    <SyncTime>09555000</SyncTime>
    <ModDate>20190501</ModDate>
    <ModTime>09555000</ModTime>
  </Esri>
  <dataIdInfo>
    <envirDesc Sync="TRUE"> Version 6.2 (Build 9200) ; Esri ArcGIS 10.4.1.5686</envirDesc>
    <dataLang>
      <languageCode Sync="TRUE" value="eng"/>
      <countryCode Sync="TRUE" value="USA"/>
    </dataLang>
    <idCitation>
      <resTitle Sync="TRUE">CookOrtho2017</resTitle>
      <presForm>
        <PresFormCd Sync="TRUE" value="005"/>
      </presForm>
    </idCitation>
    <spatRpType>
      <SpatRepTypCd Sync="TRUE" value="002"/>
    </spatRpType>
    <dataExt>
      <geoEle>
        <GeoBndBox esriExtentType="search">
          <exTypeCode Sync="TRUE">1</exTypeCode>
          <westBL Sync="TRUE">-88.294124</westBL>
          <eastBL Sync="TRUE">-87.491292</eastBL>
          <northBL Sync="TRUE">42.178117</northBL>
          <southBL Sync="TRUE">41.441012</southBL>
        </GeoBndBox>
      </geoEle>
    </dataExt>
    <idAbs/>
    <searchKeys>
      <keyword>ortho</keyword>
    </searchKeys>
    <idPurp>4-Band aerial imagery flown in 2017 for Cook County at 6 inch pixel resolution. </idPurp>
    <idCredit/>
    <resConst>
      <Consts>
        <useLimit/>
      </Consts>
    </resConst>
  </dataIdInfo>
  <mdLang>
    <languageCode Sync="TRUE" value="eng"/>
    <countryCode Sync="TRUE" value="USA"/>
  </mdLang>
  <refSysInfo>
    <RefSystem>
      <refSysID>
        <identCode Sync="TRUE" code="3529"/>
        <idCodeSpace Sync="TRUE">EPSG</idCodeSpace>
        <idVersion Sync="TRUE">6.13(10.0.0)</idVersion>
      </refSysID>
    </RefSystem>
  </refSysInfo>
  <spatRepInfo>
    <Georect>
      <cellGeo>
        <CellGeoCd Sync="TRUE" value="002"/>
      </cellGeo>
      <numDims Sync="TRUE">2</numDims>
      <tranParaAv Sync="TRUE">1</tranParaAv>
      <chkPtAv Sync="TRUE">0</chkPtAv>
      <cornerPts>
        <pos Sync="TRUE">995000.000000 1740000.000000</pos>
      </cornerPts>
      <cornerPts>
        <pos Sync="TRUE">995000.000000 2007500.000000</pos>
      </cornerPts>
      <cornerPts>
        <pos Sync="TRUE">1212500.000000 2007500.000000</pos>
      </cornerPts>
      <cornerPts>
        <pos Sync="TRUE">1212500.000000 1740000.000000</pos>
      </cornerPts>
      <centerPt>
        <pos Sync="TRUE">1103750.000000 1873750.000000</pos>
      </centerPt>
      <axisDimension type="002">
        <dimSize Sync="TRUE">435000</dimSize>
        <dimResol>
          <value Sync="TRUE" uom="ftUS">0.500000</value>
        </dimResol>
      </axisDimension>
      <axisDimension type="001">
        <dimSize Sync="TRUE">535000</dimSize>
        <dimResol>
          <value Sync="TRUE" uom="ftUS">0.500000</value>
        </dimResol>
      </axisDimension>
      <ptInPixel>
        <PixOrientCd Sync="TRUE" value="001"/>
      </ptInPixel>
    </Georect>
  </spatRepInfo>
  <contInfo>
    <ImgDesc>
      <contentTyp>
        <ContentTypCd Sync="TRUE" value="001"/>
      </contentTyp>
      <covDim>
        <Band>
          <dimDescrp Sync="TRUE">Band_1</dimDescrp>
          <maxVal Sync="TRUE">255.000000</maxVal>
          <minVal Sync="TRUE">7.000000</minVal>
          <bitsPerVal Sync="TRUE">8</bitsPerVal>
          <valUnit>
            <UOM type="length"/>
          </valUnit>
        </Band>
        <Band>
          <dimDescrp Sync="TRUE">Band_2</dimDescrp>
          <maxVal Sync="TRUE">255.000000</maxVal>
          <minVal Sync="TRUE">20.000000</minVal>
          <bitsPerVal Sync="TRUE">8</bitsPerVal>
          <valUnit>
            <UOM type="length"/>
          </valUnit>
        </Band>
        <Band>
          <dimDescrp Sync="TRUE">Band_3</dimDescrp>
          <maxVal Sync="TRUE">255.000000</maxVal>
          <minVal Sync="TRUE">26.000000</minVal>
          <bitsPerVal Sync="TRUE">8</bitsPerVal>
          <valUnit>
            <UOM type="length"/>
          </valUnit>
        </Band>
        <Band>
          <dimDescrp Sync="TRUE">Band_4</dimDescrp>
          <maxVal Sync="TRUE">255.000000</maxVal>
          <minVal Sync="TRUE">2.000000</minVal>
          <bitsPerVal Sync="TRUE">8</bitsPerVal>
          <valUnit>
            <UOM type="length"/>
          </valUnit>
        </Band>
      </covDim>
    </ImgDesc>
  </contInfo>
  <mdDateSt Sync="TRUE">20190501</mdDateSt>
</metadata>
