{ "currentVersion": 11.3, "serviceDescription": "
The DEM of Cook County was developed from the DEM tiles that were delivered after the 2017 LiDAR acquisition. This DEM assembles all the tiles into one raster. It displays the bare earth returns of the LiDAR as a raster.<\/span><\/p><\/div><\/div>",
"name": "CookDEM2017",
"description": " The DEM of Cook County was developed from the DEM tiles that were delivered after the 2017 LiDAR acquisition. This DEM assembles all the tiles into one raster. It displays the bare earth returns of the LiDAR as a raster.<\/span><\/p><\/div><\/div>",
"extent": {
"xmin": 1002500.449331101,
"ymin": 1738936.092346754,
"xmax": 1215527.449331101,
"ymax": 2000000.092346754,
"spatialReference": {
"wkt2": "COMPOUNDCRS[\"\",PROJCRS[\"NAD_1983_2011_StatePlane_Illinois_East_FIPS_1201_Ft_US\",BASEGEOGCRS[\"GCS_NAD_1983_2011\",DYNAMIC[FRAMEEPOCH[2010.0],MODEL[\"HTDP\"]],DATUM[\"D_NAD_1983_2011\",ELLIPSOID[\"GRS_1980\",6378137.0,298.257222101,LENGTHUNIT[\"Meter\",1.0]]],PRIMEM[\"Greenwich\",0.0,ANGLEUNIT[\"Degree\",0.0174532925199433]],CS[ellipsoidal,2],AXIS[\"Latitude (lat)\",north,ORDER[1]],AXIS[\"Longitude (lon)\",east,ORDER[2]],ANGLEUNIT[\"Degree\",0.0174532925199433]],CONVERSION[\"Transverse_Mercator\",METHOD[\"Transverse_Mercator\"],PARAMETER[\"False_Easting\",984250.0,LENGTHUNIT[\"Foot_US\",0.3048006096012192]],PARAMETER[\"False_Northing\",0.0,LENGTHUNIT[\"Foot_US\",0.3048006096012192]],PARAMETER[\"Central_Meridian\",-88.33333333333333,ANGLEUNIT[\"Degree\",0.0174532925199433]],PARAMETER[\"Scale_Factor\",0.999975,SCALEUNIT[\"Unity\",1.0]],PARAMETER[\"Latitude_Of_Origin\",36.66666666666666,ANGLEUNIT[\"Degree\",0.0174532925199433]]],CS[Cartesian,2],AXIS[\"Easting (X)\",east,ORDER[1]],AXIS[\"Northing (Y)\",north,ORDER[2]],LENGTHUNIT[\"Foot_US\",0.3048006096012192]],VERTCRS[\"NAVD88 height - Geoid12B (ftUS)\",VDATUM[\"North American Vertical Datum 1988\"],CS[vertical,1],AXIS[\"Gravity-related height (H)\",up,LENGTHUNIT[\"US survey foot\",0.3048006096012192]]]]",
"wkt": "PROJCS[\"NAD_1983_2011_StatePlane_Illinois_East_FIPS_1201_Ft_US\",GEOGCS[\"GCS_NAD_1983_2011\",DATUM[\"D_NAD_1983_2011\",SPHEROID[\"GRS_1980\",6378137.0,298.257222101]],PRIMEM[\"Greenwich\",0.0],UNIT[\"Degree\",0.0174532925199433]],PROJECTION[\"Transverse_Mercator\"],PARAMETER[\"False_Easting\",984250.0],PARAMETER[\"False_Northing\",0.0],PARAMETER[\"Central_Meridian\",-88.33333333333333],PARAMETER[\"Scale_Factor\",0.999975],PARAMETER[\"Latitude_Of_Origin\",36.66666666666666],UNIT[\"Foot_US\",0.3048006096012192]],VERTCS[\"NAVD88 height - Geoid12B (ftUS)\",VDATUM[\"North American Vertical Datum 1988\"],PARAMETER[\"Vertical_Shift\",0.0],PARAMETER[\"Direction\",1.0],UNIT[\"US survey foot\",0.3048006096012192]]"
}
},
"initialExtent": {
"xmin": 1002500.449331101,
"ymin": 1738936.092346754,
"xmax": 1215527.449331101,
"ymax": 2000000.092346754,
"spatialReference": {
"wkt2": "COMPOUNDCRS[\"\",PROJCRS[\"NAD_1983_2011_StatePlane_Illinois_East_FIPS_1201_Ft_US\",BASEGEOGCRS[\"GCS_NAD_1983_2011\",DYNAMIC[FRAMEEPOCH[2010.0],MODEL[\"HTDP\"]],DATUM[\"D_NAD_1983_2011\",ELLIPSOID[\"GRS_1980\",6378137.0,298.257222101,LENGTHUNIT[\"Meter\",1.0]]],PRIMEM[\"Greenwich\",0.0,ANGLEUNIT[\"Degree\",0.0174532925199433]],CS[ellipsoidal,2],AXIS[\"Latitude (lat)\",north,ORDER[1]],AXIS[\"Longitude (lon)\",east,ORDER[2]],ANGLEUNIT[\"Degree\",0.0174532925199433]],CONVERSION[\"Transverse_Mercator\",METHOD[\"Transverse_Mercator\"],PARAMETER[\"False_Easting\",984250.0,LENGTHUNIT[\"Foot_US\",0.3048006096012192]],PARAMETER[\"False_Northing\",0.0,LENGTHUNIT[\"Foot_US\",0.3048006096012192]],PARAMETER[\"Central_Meridian\",-88.33333333333333,ANGLEUNIT[\"Degree\",0.0174532925199433]],PARAMETER[\"Scale_Factor\",0.999975,SCALEUNIT[\"Unity\",1.0]],PARAMETER[\"Latitude_Of_Origin\",36.66666666666666,ANGLEUNIT[\"Degree\",0.0174532925199433]]],CS[Cartesian,2],AXIS[\"Easting (X)\",east,ORDER[1]],AXIS[\"Northing (Y)\",north,ORDER[2]],LENGTHUNIT[\"Foot_US\",0.3048006096012192]],VERTCRS[\"NAVD88 height - Geoid12B (ftUS)\",VDATUM[\"North American Vertical Datum 1988\"],CS[vertical,1],AXIS[\"Gravity-related height (H)\",up,LENGTHUNIT[\"US survey foot\",0.3048006096012192]]]]",
"wkt": "PROJCS[\"NAD_1983_2011_StatePlane_Illinois_East_FIPS_1201_Ft_US\",GEOGCS[\"GCS_NAD_1983_2011\",DATUM[\"D_NAD_1983_2011\",SPHEROID[\"GRS_1980\",6378137.0,298.257222101]],PRIMEM[\"Greenwich\",0.0],UNIT[\"Degree\",0.0174532925199433]],PROJECTION[\"Transverse_Mercator\"],PARAMETER[\"False_Easting\",984250.0],PARAMETER[\"False_Northing\",0.0],PARAMETER[\"Central_Meridian\",-88.33333333333333],PARAMETER[\"Scale_Factor\",0.999975],PARAMETER[\"Latitude_Of_Origin\",36.66666666666666],UNIT[\"Foot_US\",0.3048006096012192]],VERTCS[\"NAVD88 height - Geoid12B (ftUS)\",VDATUM[\"North American Vertical Datum 1988\"],PARAMETER[\"Vertical_Shift\",0.0],PARAMETER[\"Direction\",1.0],UNIT[\"US survey foot\",0.3048006096012192]]"
}
},
"fullExtent": {
"xmin": 1002500.449331101,
"ymin": 1738936.092346754,
"xmax": 1215527.449331101,
"ymax": 2000000.092346754,
"spatialReference": {
"wkt2": "COMPOUNDCRS[\"\",PROJCRS[\"NAD_1983_2011_StatePlane_Illinois_East_FIPS_1201_Ft_US\",BASEGEOGCRS[\"GCS_NAD_1983_2011\",DYNAMIC[FRAMEEPOCH[2010.0],MODEL[\"HTDP\"]],DATUM[\"D_NAD_1983_2011\",ELLIPSOID[\"GRS_1980\",6378137.0,298.257222101,LENGTHUNIT[\"Meter\",1.0]]],PRIMEM[\"Greenwich\",0.0,ANGLEUNIT[\"Degree\",0.0174532925199433]],CS[ellipsoidal,2],AXIS[\"Latitude (lat)\",north,ORDER[1]],AXIS[\"Longitude (lon)\",east,ORDER[2]],ANGLEUNIT[\"Degree\",0.0174532925199433]],CONVERSION[\"Transverse_Mercator\",METHOD[\"Transverse_Mercator\"],PARAMETER[\"False_Easting\",984250.0,LENGTHUNIT[\"Foot_US\",0.3048006096012192]],PARAMETER[\"False_Northing\",0.0,LENGTHUNIT[\"Foot_US\",0.3048006096012192]],PARAMETER[\"Central_Meridian\",-88.33333333333333,ANGLEUNIT[\"Degree\",0.0174532925199433]],PARAMETER[\"Scale_Factor\",0.999975,SCALEUNIT[\"Unity\",1.0]],PARAMETER[\"Latitude_Of_Origin\",36.66666666666666,ANGLEUNIT[\"Degree\",0.0174532925199433]]],CS[Cartesian,2],AXIS[\"Easting (X)\",east,ORDER[1]],AXIS[\"Northing (Y)\",north,ORDER[2]],LENGTHUNIT[\"Foot_US\",0.3048006096012192]],VERTCRS[\"NAVD88 height - Geoid12B (ftUS)\",VDATUM[\"North American Vertical Datum 1988\"],CS[vertical,1],AXIS[\"Gravity-related height (H)\",up,LENGTHUNIT[\"US survey foot\",0.3048006096012192]]]]",
"wkt": "PROJCS[\"NAD_1983_2011_StatePlane_Illinois_East_FIPS_1201_Ft_US\",GEOGCS[\"GCS_NAD_1983_2011\",DATUM[\"D_NAD_1983_2011\",SPHEROID[\"GRS_1980\",6378137.0,298.257222101]],PRIMEM[\"Greenwich\",0.0],UNIT[\"Degree\",0.0174532925199433]],PROJECTION[\"Transverse_Mercator\"],PARAMETER[\"False_Easting\",984250.0],PARAMETER[\"False_Northing\",0.0],PARAMETER[\"Central_Meridian\",-88.33333333333333],PARAMETER[\"Scale_Factor\",0.999975],PARAMETER[\"Latitude_Of_Origin\",36.66666666666666],UNIT[\"Foot_US\",0.3048006096012192]],VERTCS[\"NAVD88 height - Geoid12B (ftUS)\",VDATUM[\"North American Vertical Datum 1988\"],PARAMETER[\"Vertical_Shift\",0.0],PARAMETER[\"Direction\",1.0],UNIT[\"US survey foot\",0.3048006096012192]]"
}
},
"sortableFields": "",
"heightModelInfo": {
"heightModel": "gravity_related_height",
"vertCRS": "NAVD88 height - Geoid12B (ftUS)",
"heightUnit": "us-foot"
},
"bandCount": 1,
"pixelType": "F32",
"minValues": [
0.003552784211933613
],
"maxValues": [
949.0763549804688
],
"meanValues": [
666.5440283215302
],
"stdvValues": [
71.64774959845654
],
"hasMultidimensions": false,
"pixelSizeX": 1,
"pixelSizeY": 1,
"meanPixelSize": 0.30480060960121924,
"datasetFormat": "FGDBR",
"uncompressedSize": 222454722912,
"blockWidth": 128,
"blockHeight": 128,
"compressionType": "LZ77",
"bandNames": [
"Band_1"
],
"allowCopy": true,
"allowAnalysis": true,
"itemAccess": false,
"inspectionCapabilities": "",
"minPixelSize": 0,
"maxPixelSize": 0,
"copyrightText": "Cook County GIS Department, USGS",
"serviceDataType": "esriImageServiceDataTypeGeneric",
"serviceSourceType": "esriImageServiceSourceTypeDataset",
"objectIdField": "",
"fields": [],
"capabilities": "Mensuration,Image,Metadata",
"defaultMosaicMethod": "Center",
"allowedMosaicMethods": "",
"sortField": "",
"sortValue": null,
"sortAscending": true,
"mosaicOperator": "First",
"defaultCompressionQuality": 75,
"defaultResamplingMethod": "Bilinear",
"maxImageHeight": 10000,
"maxImageWidth": 25000,
"allowRasterFunction": true,
"rasterFunctionInfos": [
{
"name": "None",
"description": "",
"help": ""
}
],
"rasterTypeInfos": [
{
"name": "Raster Dataset",
"description": "Supports all ArcGIS Raster Datasets",
"help": ""
}
],
"mensurationCapabilities": "Basic",
"hasHistograms": true,
"hasColormap": false,
"hasRasterAttributeTable": false,
"minScale": 0,
"maxScale": 0,
"exportTilesAllowed": false,
"supportsStatistics": false,
"supportsAdvancedQueries": false,
"editFieldsInfo": null,
"ownershipBasedAccessControlForRasters": null,
"allowComputeTiePoints": false,
"useStandardizedQueries": true,
"advancedQueryCapabilities": {
"useStandardizedQueries": true,
"supportsStatistics": false,
"supportsOrderBy": false,
"supportsDistinct": false,
"supportsPagination": false
},
"spatialReference": {
"wkt2": "COMPOUNDCRS[\"\",PROJCRS[\"NAD_1983_2011_StatePlane_Illinois_East_FIPS_1201_Ft_US\",BASEGEOGCRS[\"GCS_NAD_1983_2011\",DYNAMIC[FRAMEEPOCH[2010.0],MODEL[\"HTDP\"]],DATUM[\"D_NAD_1983_2011\",ELLIPSOID[\"GRS_1980\",6378137.0,298.257222101,LENGTHUNIT[\"Meter\",1.0]]],PRIMEM[\"Greenwich\",0.0,ANGLEUNIT[\"Degree\",0.0174532925199433]],CS[ellipsoidal,2],AXIS[\"Latitude (lat)\",north,ORDER[1]],AXIS[\"Longitude (lon)\",east,ORDER[2]],ANGLEUNIT[\"Degree\",0.0174532925199433]],CONVERSION[\"Transverse_Mercator\",METHOD[\"Transverse_Mercator\"],PARAMETER[\"False_Easting\",984250.0,LENGTHUNIT[\"Foot_US\",0.3048006096012192]],PARAMETER[\"False_Northing\",0.0,LENGTHUNIT[\"Foot_US\",0.3048006096012192]],PARAMETER[\"Central_Meridian\",-88.33333333333333,ANGLEUNIT[\"Degree\",0.0174532925199433]],PARAMETER[\"Scale_Factor\",0.999975,SCALEUNIT[\"Unity\",1.0]],PARAMETER[\"Latitude_Of_Origin\",36.66666666666666,ANGLEUNIT[\"Degree\",0.0174532925199433]]],CS[Cartesian,2],AXIS[\"Easting (X)\",east,ORDER[1]],AXIS[\"Northing (Y)\",north,ORDER[2]],LENGTHUNIT[\"Foot_US\",0.3048006096012192]],VERTCRS[\"NAVD88 height - Geoid12B (ftUS)\",VDATUM[\"North American Vertical Datum 1988\"],CS[vertical,1],AXIS[\"Gravity-related height (H)\",up,LENGTHUNIT[\"US survey foot\",0.3048006096012192]]]]",
"wkt": "PROJCS[\"NAD_1983_2011_StatePlane_Illinois_East_FIPS_1201_Ft_US\",GEOGCS[\"GCS_NAD_1983_2011\",DATUM[\"D_NAD_1983_2011\",SPHEROID[\"GRS_1980\",6378137.0,298.257222101]],PRIMEM[\"Greenwich\",0.0],UNIT[\"Degree\",0.0174532925199433]],PROJECTION[\"Transverse_Mercator\"],PARAMETER[\"False_Easting\",984250.0],PARAMETER[\"False_Northing\",0.0],PARAMETER[\"Central_Meridian\",-88.33333333333333],PARAMETER[\"Scale_Factor\",0.999975],PARAMETER[\"Latitude_Of_Origin\",36.66666666666666],UNIT[\"Foot_US\",0.3048006096012192]],VERTCS[\"NAVD88 height - Geoid12B (ftUS)\",VDATUM[\"North American Vertical Datum 1988\"],PARAMETER[\"Vertical_Shift\",0.0],PARAMETER[\"Direction\",1.0],UNIT[\"US survey foot\",0.3048006096012192]]"
},
"resampling": false
}